BEGIN:VCALENDAR
METHOD:PUBLISH
PRODID:-//doubleknot.com//CalenderEvent MIMEDIR//EN
VERSION:2.0
BEGIN:VEVENT
UID:3084754-20250401T230000Z-20250402T010000Z@doubleknot.com
CREATED:20241122T175628Z
LAST-MODIFIED:20250328T203332Z
DTSTAMP:20260424T112938Z
DTSTART:20250401T230000Z
DTEND:20250402T010000Z
LOCATION:1303 E University Blvd, Tucson, AZ 85719, US
CATEGORIES:Life Skills, Older Girls (CSA)
DESCRIPTION:Calling all Khaki Crew! \n  \n  \n Join Girl Volunteer Corps in making a difference by volunteering at the University of Arizona Campus Pantry! Help reduce food insecurity on campus by sorting and distributing food to students in need. This can be a great opportunity to give back and support your community while earning volunteer hours! Not already a Girl Volunteer Corps (GVC) member? All Cadettes, Seniors, and Ambassadors interested in spreading kindness and support for our community members are welcome to join. Transportation to and from this event will not be provided. \n  \n  \n   \n  \n  \n Registration closes March 19th. \n  \n  \n Contact Alyssa Kervran at akervran@girlscoutssoaz.org with questions. \n 
SUMMARY:GVC at Campus Pantry
PRIORITY:5
BEGIN:VALARM
TRIGGER:PT15M
ACTION:DISPLAY
DESCRIPTION:Reminder
PRIORITY:5
END:VALARM
END:VEVENT
END:VCALENDAR
